BEGIN:VCALENDAR
VERSION:2.0
PRODID:spatie/icalendar-generator
DESCRIPTION:Events from American Legion Post 42
X-WR-CALDESC:Events from American Legion Post 42
REFRESH-INTERVAL;VALUE=DURATION:PT1440M
X-PUBLISHED-TTL:PT1440M
BEGIN:VTIMEZONE
TZID:America/Chicago
BEGIN:DAYLIGHT
DTSTART:20260308T020000Z
TZOFFSETFROM:-0600
TZOFFSETTO:-0500
END:DAYLIGHT
BEGIN:STANDARD
DTSTART:20261101T020000Z
TZOFFSETFROM:-0500
TZOFFSETTO:-0600
END:STANDARD
BEGIN:DAYLIGHT
DTSTART:20270314T020000Z
TZOFFSETFROM:-0600
TZOFFSETTO:-0500
END:DAYLIGHT
END:VTIMEZONE
BEGIN:VTIMEZONE
TZID:UTC
BEGIN:STANDARD
DTSTART:20250723T162559Z
TZOFFSETFROM:+0000
TZOFFSETTO:+0000
END:STANDARD
END:VTIMEZONE
BEGIN:VEVENT
UID:619-75
DTSTAMP:20260419T162559Z
SUMMARY:Post Volunteer Day
LOCATION:American Legion Post 42 214 Watts Lane  Gatesville TX 76528
ORGANIZER;CN=American Legion Post:MAILTO:info@legionpost42.org
RRULE:FREQ=MONTHLY;BYDAY=3SA;UNTIL=20261219T000000Z
DTSTART;TZID=America/Chicago:20260919T120000
DTEND;TZID=America/Chicago:20260919T200000
X-ALT-DESC;FMTTYPE=TEXT/HTML:
CATEGORIES:General
URL;VALUE=URI:https://legionpost42.org/mc-events/post-volunteer-day/?mc_id=
 619
METHOD:PUBLISH
END:VEVENT
END:VCALENDAR